Index of /checkResults/3.16/data-experiment-LATEST/HiContactsData/raw-results
Name
Last modified
Size
Description
Parent Directory
-
nebbiolo2/
12-Apr-2023 03:50
-
info.dcf
12-Apr-2023 03:50
291