Name | Last modified | Size | Description | |
---|---|---|---|---|
Parent Directory | - | |||
checksrc-out.txt | 12-Apr-2023 03:50 | 5.2K | ||
install-out.txt | 12-Apr-2023 03:50 | 955 | ||
buildsrc-out.txt | 12-Apr-2023 03:50 | 873 | ||
buildsrc-summary.dcf | 12-Apr-2023 03:50 | 420 | ||
checksrc-summary.dcf | 12-Apr-2023 03:50 | 418 | ||
install-summary.dcf | 12-Apr-2023 03:50 | 261 | ||