Name | Last modified | Size | Description | |
---|---|---|---|---|
Parent Directory | - | |||
install-summary.dcf | 12-Apr-2023 03:50 | 265 | ||
install-out.txt | 12-Apr-2023 03:50 | 1.0K | ||
checksrc-summary.dcf | 12-Apr-2023 03:50 | 426 | ||
checksrc-out.txt | 12-Apr-2023 03:50 | 3.2K | ||
buildsrc-summary.dcf | 12-Apr-2023 03:50 | 427 | ||
buildsrc-out.txt | 12-Apr-2023 03:50 | 818 | ||