Name | Last modified | Size | Description | |
---|---|---|---|---|
Parent Directory | - | |||
buildsrc-out.txt | 12-Apr-2023 03:50 | 861 | ||
buildsrc-summary.dcf | 12-Apr-2023 03:50 | 458 | ||
checksrc-out.txt | 12-Apr-2023 03:50 | 3.8K | ||
checksrc-summary.dcf | 12-Apr-2023 03:50 | 469 | ||
install-out.txt | 12-Apr-2023 03:50 | 1.0K | ||
install-summary.dcf | 12-Apr-2023 03:50 | 286 | ||