Name | Last modified | Size | Description | |
---|---|---|---|---|
Parent Directory | - | |||
install-summary.dcf | 12-Apr-2023 03:50 | 294 | ||
install-out.txt | 12-Apr-2023 03:50 | 948 | ||
checksrc-summary.dcf | 12-Apr-2023 03:50 | 491 | ||
checksrc-out.txt | 12-Apr-2023 03:50 | 3.4K | ||
buildsrc-summary.dcf | 12-Apr-2023 03:50 | 470 | ||
buildsrc-out.txt | 12-Apr-2023 03:50 | 941 | ||