Name | Last modified | Size | Description | |
---|---|---|---|---|
Parent Directory | - | |||
install-summary.dcf | 12-Apr-2023 03:50 | 256 | ||
install-out.txt | 12-Apr-2023 03:50 | 867 | ||
checksrc-summary.dcf | 12-Apr-2023 03:50 | 409 | ||
checksrc-out.txt | 12-Apr-2023 03:50 | 2.7K | ||
buildsrc-summary.dcf | 12-Apr-2023 03:50 | 413 | ||
buildsrc-out.txt | 12-Apr-2023 03:50 | 793 | ||