Name | Last modified | Size | Description | |
---|---|---|---|---|
Parent Directory | - | |||
install-summary.dcf | 12-Apr-2023 19:00 | 253 | ||
checksrc-summary.dcf | 12-Apr-2023 19:00 | 403 | ||
buildsrc-summary.dcf | 12-Apr-2023 19:00 | 410 | ||
buildsrc-out.txt | 12-Apr-2023 19:00 | 795 | ||
install-out.txt | 12-Apr-2023 19:00 | 963 | ||
checksrc-out.txt | 12-Apr-2023 19:00 | 2.9K | ||