Name | Last modified | Size | Description | |
---|---|---|---|---|
Parent Directory | - | |||
checksrc-summary.dcf | 12-Apr-2023 19:00 | 433 | ||
checksrc-out.txt | 12-Apr-2023 19:00 | 3.2K | ||
buildsrc-out.txt | 12-Apr-2023 19:00 | 888 | ||
install-summary.dcf | 12-Apr-2023 19:00 | 266 | ||
install-out.txt | 12-Apr-2023 19:00 | 906 | ||
buildsrc-summary.dcf | 12-Apr-2023 19:00 | 427 | ||