Index of /checkResults/3.16/books-LATEST/SingleRBook/raw-results/nebbiolo2
Name
Last modified
Size
Description
Parent Directory
-
install-out.txt
13-Apr-2023 03:00
956
buildsrc-summary.dcf
13-Apr-2023 03:00
429
buildsrc-out.txt
13-Apr-2023 03:00
855
install-summary.dcf
13-Apr-2023 03:00
266