Back to Mac ARM64 build report for BioC 3.16 |
|
This page was generated on 2023-04-19 11:01:48 -0400 (Wed, 19 Apr 2023).
Hostname | OS | Arch (*) | R version | Installed pkgs |
---|---|---|---|---|
kjohnson | macOS 13.0 Ventura | arm64 | 4.2.2 (2022-10-31) -- "Innocent and Trusting" | 4256 |
Click on any hostname to see more info about the system (e.g. compilers) (*) as reported by 'uname -p', except on Windows and Mac OS X |
To the developers/maintainers of the DNAcopy package: Make sure to use the following settings in order to reproduce any error or warning you see on this page. |
Package 560/2183 | Hostname | OS / Arch | INSTALL | BUILD | BUILD BIN | ||||||||
DNAcopy 1.72.3 (landing page) Venkatraman E. Seshan
| kjohnson | macOS 13.0 Ventura / arm64 | OK | OK | OK | ||||||||
QUICK STATS | OS / Arch | INSTALL | BUILD | BUILD BIN | |||||||||||||
kjohnson | macOS 13.0 Ventura / arm64 |
|
|
| |||||||||||||
Package 1/25 | Hostname | OS / Arch | INSTALL | BUILD | BUILD BIN | ||||||||||||
ADaCGH2 2.38.0 (landing page) Ramon Diaz-Uriarte
| kjohnson | macOS 13.0 Ventura / arm64 | OK | OK | OK | ||||||||||||
Package 2/25 | Hostname | OS / Arch | INSTALL | BUILD | BUILD BIN | ||||||||||||
AneuFinder 1.26.0 (landing page) Aaron Taudt
| kjohnson | macOS 13.0 Ventura / arm64 | ERROR | ERROR | skipped | ||||||||||||
Package 3/25 | Hostname | OS / Arch | INSTALL | BUILD | BUILD BIN | ||||||||||||
CGHcall 2.60.0 (landing page) Mark van de Wiel
| kjohnson | macOS 13.0 Ventura / arm64 | OK | OK | OK | ||||||||||||
Package 4/25 | Hostname | OS / Arch | INSTALL | BUILD | BUILD BIN | ||||||||||||
cghMCR 1.56.0 (landing page) J. Zhang
| kjohnson | macOS 13.0 Ventura / arm64 | OK | OK | OK | ||||||||||||
Package 5/25 | Hostname | OS / Arch | INSTALL | BUILD | BUILD BIN | ||||||||||||
ChAMP 2.28.0 (landing page) Yuan Tian
| kjohnson | macOS 13.0 Ventura / arm64 | OK | OK | OK | ||||||||||||
Package 6/25 | Hostname | OS / Arch | INSTALL | BUILD | BUILD BIN | ||||||||||||
Clonality 1.46.0 (landing page) Irina Ostrovnaya
| kjohnson | macOS 13.0 Ventura / arm64 | OK | OK | OK | ||||||||||||
Package 7/25 | Hostname | OS / Arch | INSTALL | BUILD | BUILD BIN | ||||||||||||
cn.farms 1.46.0 (landing page) Andreas Mitterecker
| kjohnson | macOS 13.0 Ventura / arm64 | OK | OK | OK | ||||||||||||
Package 8/25 | Hostname | OS / Arch | INSTALL | BUILD | BUILD BIN | ||||||||||||
CNAnorm 1.44.3 (landing page) Stefano Berri
| kjohnson | macOS 13.0 Ventura / arm64 | OK | OK | OK | ||||||||||||
Package 9/25 | Hostname | OS / Arch | INSTALL | BUILD | BUILD BIN | ||||||||||||
CNVrd2 1.36.0 (landing page) Hoang Tan Nguyen
| kjohnson | macOS 13.0 Ventura / arm64 | OK | OK | OK | ||||||||||||
Package 10/25 | Hostname | OS / Arch | INSTALL | BUILD | BUILD BIN | ||||||||||||
contiBAIT 1.26.0 (landing page) Kieran O'Neill
| kjohnson | macOS 13.0 Ventura / arm64 | OK | OK | OK | ||||||||||||
Package 11/25 | Hostname | OS / Arch | INSTALL | BUILD | BUILD BIN | ||||||||||||
conumee 1.32.0 (landing page) Volker Hovestadt
| kjohnson | macOS 13.0 Ventura / arm64 | OK | OK | OK | ||||||||||||
Package 12/25 | Hostname | OS / Arch | INSTALL | BUILD | BUILD BIN | ||||||||||||
CopywriteR 2.30.0 (landing page) Oscar Krijgsman
| kjohnson | macOS 13.0 Ventura / arm64 | OK | OK | OK | ||||||||||||
Package 13/25 | Hostname | OS / Arch | INSTALL | BUILD | BUILD BIN | ||||||||||||
CRImage 1.46.0 (landing page) Henrik Failmezger
| kjohnson | macOS 13.0 Ventura / arm64 | OK | OK | OK | ||||||||||||
Package 14/25 | Hostname | OS / Arch | INSTALL | BUILD | BUILD BIN | ||||||||||||
GWASTools 1.44.0 (landing page) Stephanie M. Gogarten
| kjohnson | macOS 13.0 Ventura / arm64 | OK | OK | OK | ||||||||||||
Package 15/25 | Hostname | OS / Arch | INSTALL | BUILD | BUILD BIN | ||||||||||||
maftools 2.14.0 (landing page) Anand Mayakonda
| kjohnson | macOS 13.0 Ventura / arm64 | OK | OK | OK | ||||||||||||
Package 16/25 | Hostname | OS / Arch | INSTALL | BUILD | BUILD BIN | ||||||||||||
MDTS 1.18.0 (landing page) Jack M.. Fu
| kjohnson | macOS 13.0 Ventura / arm64 | OK | OK | OK | ||||||||||||
Package 17/25 | Hostname | OS / Arch | INSTALL | BUILD | BUILD BIN | ||||||||||||
MEDIPS 1.50.0 (landing page) Lukas Chavez
| kjohnson | macOS 13.0 Ventura / arm64 | OK | OK | OK | ||||||||||||
Package 18/25 | Hostname | OS / Arch | INSTALL | BUILD | BUILD BIN | ||||||||||||
MethCP 1.12.0 (landing page) Boying Gong
| kjohnson | macOS 13.0 Ventura / arm64 | OK | OK | OK | ||||||||||||
Package 19/25 | Hostname | OS / Arch | INSTALL | BUILD | BUILD BIN | ||||||||||||
MinimumDistance 1.42.0 (landing page) Robert Scharpf
| kjohnson | macOS 13.0 Ventura / arm64 | OK | OK | OK | ||||||||||||
Package 20/25 | Hostname | OS / Arch | INSTALL | BUILD | BUILD BIN | ||||||||||||
PureCN 2.4.0 (landing page) Markus Riester
| kjohnson | macOS 13.0 Ventura / arm64 | OK | OK | OK | ||||||||||||
Package 21/25 | Hostname | OS / Arch | INSTALL | BUILD | BUILD BIN | ||||||||||||
QDNAseq 1.34.0 (landing page) Daoud Sie
| kjohnson | macOS 13.0 Ventura / arm64 | OK | OK | OK | ||||||||||||
Package 22/25 | Hostname | OS / Arch | INSTALL | BUILD | BUILD BIN | ||||||||||||
rCGH 1.28.0 (landing page) Frederic Commo
| kjohnson | macOS 13.0 Ventura / arm64 | OK | OK | OK | ||||||||||||
Package 23/25 | Hostname | OS / Arch | INSTALL | BUILD | BUILD BIN | ||||||||||||
Repitools 1.44.0 (landing page) Mark Robinson
| kjohnson | macOS 13.0 Ventura / arm64 | OK | OK | OK | ||||||||||||
Package 24/25 | Hostname | OS / Arch | INSTALL | BUILD | BUILD BIN | ||||||||||||
SCOPE 1.10.0 (landing page) Rujin Wang
| kjohnson | macOS 13.0 Ventura / arm64 | OK | OK | OK | ||||||||||||
Package 25/25 | Hostname | OS / Arch | INSTALL | BUILD | BUILD BIN | ||||||||||||
snapCGH 1.68.0 (landing page) John Marioni
| kjohnson | macOS 13.0 Ventura / arm64 | OK | OK | OK | ||||||||||||