Index of /checkResults/3.16/bioc-longtests-LATEST/zellkonverter/raw-results/palomino4
Name
Last modified
Size
Description
Parent Directory
-
checksrc-summary.dcf
16-Apr-2023 10:30
476
checksrc-out.txt
16-Apr-2023 10:30
3.9K
buildsrc-summary.dcf
16-Apr-2023 10:30
507
buildsrc-out.txt
16-Apr-2023 10:30
949