Index of /checkResults/3.16/bioc-longtests-LATEST/zellkonverter/raw-results/lconway
Name
Last modified
Size
Description
Parent Directory
-
checksrc-out.txt
16-Apr-2023 10:30
3.2K
buildsrc-out.txt
16-Apr-2023 10:30
840
buildsrc-summary.dcf
16-Apr-2023 10:30
476
checksrc-summary.dcf
16-Apr-2023 10:30
455