Index of /checkResults/3.16/bioc-longtests-LATEST/rhdf5/raw-results/palomino4
Name
Last modified
Size
Description
Parent Directory
-
checksrc-summary.dcf
16-Apr-2023 10:30
449
checksrc-out.txt
16-Apr-2023 10:30
3.4K
buildsrc-summary.dcf
16-Apr-2023 10:30
477
buildsrc-out.txt
16-Apr-2023 10:30
1.0K