Index of /checkResults/3.16/bioc-longtests-LATEST/rhdf5/raw-results/nebbiolo2
Name
Last modified
Size
Description
Parent Directory
-
buildsrc-out.txt
16-Apr-2023 10:30
798
buildsrc-summary.dcf
16-Apr-2023 10:30
441
checksrc-out.txt
16-Apr-2023 10:30
3.5K
checksrc-summary.dcf
16-Apr-2023 10:30
422