Index of /checkResults/3.16/bioc-longtests-LATEST/rhdf5/raw-results/lconway
Name
Last modified
Size
Description
Parent Directory
-
checksrc-out.txt
16-Apr-2023 10:30
3.4K
buildsrc-out.txt
16-Apr-2023 10:30
808
buildsrc-summary.dcf
16-Apr-2023 10:30
452
checksrc-summary.dcf
16-Apr-2023 10:30
432