Index of /checkResults/3.16/bioc-longtests-LATEST/crisprScore/raw-results/lconway
Name
Last modified
Size
Description
Parent Directory
-
checksrc-out.txt
16-Apr-2023 10:30
4.2K
buildsrc-out.txt
16-Apr-2023 10:30
1.6K
buildsrc-summary.dcf
16-Apr-2023 10:30
470
checksrc-summary.dcf
16-Apr-2023 10:30
449