Index of /checkResults/3.16/bioc-longtests-LATEST/biodbLipidmaps/raw-results/palomino4
Name
Last modified
Size
Description
Parent Directory
-
buildsrc-out.txt
16-Apr-2023 10:30
832
buildsrc-summary.dcf
16-Apr-2023 10:30
511
checksrc-out.txt
16-Apr-2023 10:30
2.8K
checksrc-summary.dcf
16-Apr-2023 10:30
474