Index of /checkResults/3.16/bioc-longtests-LATEST/biodbHmdb/raw-results/palomino4
Name
Last modified
Size
Description
Parent Directory
-
checksrc-out.txt
16-Apr-2023 10:30
2.9K
buildsrc-out.txt
16-Apr-2023 10:30
823
buildsrc-summary.dcf
16-Apr-2023 10:30
491
checksrc-summary.dcf
16-Apr-2023 10:30
460