Index of /checkResults/3.16/bioc-longtests-LATEST/biodbHmdb/raw-results/nebbiolo2
Name
Last modified
Size
Description
Parent Directory
-
buildsrc-summary.dcf
16-Apr-2023 10:30
453
buildsrc-out.txt
16-Apr-2023 10:30
789
checksrc-out.txt
16-Apr-2023 10:30
3.1K
checksrc-summary.dcf
16-Apr-2023 10:30
433