Index of /checkResults/3.16/bioc-longtests-LATEST/biodbHmdb/raw-results/lconway
Name
Last modified
Size
Description
Parent Directory
-
buildsrc-out.txt
16-Apr-2023 10:30
799
buildsrc-summary.dcf
16-Apr-2023 10:30
464
checksrc-summary.dcf
16-Apr-2023 10:30
444
checksrc-out.txt
16-Apr-2023 10:30
2.9K