Index of /checkResults/3.16/bioc-longtests-LATEST/beachmat/raw-results/palomino4
Name
Last modified
Size
Description
Parent Directory
-
checksrc-summary.dcf
16-Apr-2023 10:30
463
buildsrc-summary.dcf
16-Apr-2023 10:30
489
buildsrc-out.txt
16-Apr-2023 10:30
819
checksrc-out.txt
16-Apr-2023 10:30
3.8K