Index of /checkResults/3.16/bioc-longtests-LATEST/beachmat/raw-results/nebbiolo2
Name
Last modified
Size
Description
Parent Directory
-
checksrc-summary.dcf
16-Apr-2023 10:30
436
buildsrc-summary.dcf
16-Apr-2023 10:30
452
buildsrc-out.txt
16-Apr-2023 10:30
786
checksrc-out.txt
16-Apr-2023 10:30
3.9K