Index of /checkResults/3.16/bioc-longtests-LATEST/GenomicFeatures/raw-results/palomino4
Name
Last modified
Size
Description
Parent Directory
-
checksrc-summary.dcf
16-Apr-2023 10:30
485
checksrc-out.txt
16-Apr-2023 10:30
4.2K
buildsrc-summary.dcf
16-Apr-2023 10:30
517
buildsrc-out.txt
16-Apr-2023 10:30
838