Index of /checkResults/3.16/bioc-longtests-LATEST/GenomicFeatures/raw-results/nebbiolo2
Name
Last modified
Size
Description
Parent Directory
-
buildsrc-out.txt
16-Apr-2023 10:30
799
buildsrc-summary.dcf
16-Apr-2023 10:30
473
checksrc-out.txt
16-Apr-2023 10:30
4.4K
checksrc-summary.dcf
16-Apr-2023 10:30
459