Index of /checkResults/3.16/bioc-longtests-LATEST/GenomicFeatures/raw-results/lconway
Name
Last modified
Size
Description
Parent Directory
-
checksrc-summary.dcf
16-Apr-2023 10:30
469
checksrc-out.txt
16-Apr-2023 10:30
4.4K
buildsrc-summary.dcf
16-Apr-2023 10:30
484
buildsrc-out.txt
16-Apr-2023 10:30
809