Index of /checkResults/3.16/bioc-longtests-LATEST/DropletUtils/raw-results/palomino4
Name
Last modified
Size
Description
Parent Directory
-
buildsrc-out.txt
16-Apr-2023 10:30
839
buildsrc-summary.dcf
16-Apr-2023 10:30
505
checksrc-out.txt
16-Apr-2023 10:30
3.4K
checksrc-summary.dcf
16-Apr-2023 10:30
470