Index of /checkResults/3.16/bioc-longtests-LATEST/DropletUtils/raw-results/lconway
Name
Last modified
Size
Description
Parent Directory
-
buildsrc-out.txt
16-Apr-2023 10:30
812
buildsrc-summary.dcf
16-Apr-2023 10:30
475
checksrc-out.txt
16-Apr-2023 10:30
3.5K
checksrc-summary.dcf
16-Apr-2023 10:30
454