![]() | Name | Last modified | Size | Description |
---|---|---|---|---|
![]() | Parent Directory | - | ||
![]() | buildbin-out.txt | 13-Apr-2023 00:06 | 1.6K | |
![]() | buildbin-summary.dcf | 13-Apr-2023 00:06 | 545 | |
![]() | buildsrc-out.txt | 13-Apr-2023 00:06 | 890 | |
![]() | buildsrc-summary.dcf | 13-Apr-2023 00:06 | 434 | |
![]() | checksrc-out.txt | 13-Apr-2023 00:06 | 27K | |
![]() | checksrc-summary.dcf | 13-Apr-2023 00:06 | 454 | |
![]() | install-out.txt | 13-Apr-2023 00:06 | 1.4K | |
![]() | install-summary.dcf | 13-Apr-2023 00:06 | 274 | |