Index of /checkResults/3.16/bioc-LATEST/wateRmelon/raw-results
Name
Last modified
Size
Description
Parent Directory
-
info.dcf
30-Mar-2023 00:06
277
kjohnson/
12-Jul-2022 00:07
-
lconway/
30-Mar-2023 00:06
-
nebbiolo2/
30-Mar-2023 00:05
-
palomino4/
30-Mar-2023 00:05
-