Name | Last modified | Size | Description | |
---|---|---|---|---|
Parent Directory | - | |||
checksrc-out.txt | 13-Apr-2023 00:05 | 4.1K | ||
install-out.txt | 13-Apr-2023 00:05 | 970 | ||
buildsrc-out.txt | 13-Apr-2023 00:05 | 869 | ||
checksrc-summary.dcf | 13-Apr-2023 00:05 | 436 | ||
buildsrc-summary.dcf | 13-Apr-2023 00:05 | 432 | ||
install-summary.dcf | 13-Apr-2023 00:05 | 270 | ||