Index of /checkResults/3.16/bioc-LATEST/tximeta/raw-results/kjohnson
Name
Last modified
Size
Description
Parent Directory
-
install-summary.dcf
12-Jul-2022 00:07
271
install-out.txt
12-Jul-2022 00:07
721
buildsrc-summary.dcf
08-Jul-2022 00:12
342
buildsrc-out.txt
08-Jul-2022 00:12
918