Index of /checkResults/3.16/bioc-LATEST/tspair/raw-results/lconway
Name
Last modified
Size
Description
Parent Directory
-
buildsrc-out.txt
13-Apr-2023 00:06
2.0K
buildsrc-summary.dcf
13-Apr-2023 00:06
340
install-out.txt
13-Apr-2023 00:06
1.8K
install-summary.dcf
13-Apr-2023 00:06
266