Name | Last modified | Size | Description | |
---|---|---|---|---|
Parent Directory | - | |||
buildbin-out.txt | 13-Apr-2023 00:06 | 3.2K | ||
buildbin-summary.dcf | 13-Apr-2023 00:06 | 528 | ||
buildsrc-out.txt | 13-Apr-2023 00:06 | 909 | ||
buildsrc-summary.dcf | 13-Apr-2023 00:06 | 428 | ||
checksrc-out.txt | 13-Apr-2023 00:06 | 3.8K | ||
checksrc-summary.dcf | 13-Apr-2023 00:06 | 444 | ||
install-out.txt | 13-Apr-2023 00:06 | 2.4K | ||
install-summary.dcf | 13-Apr-2023 00:06 | 269 | ||