Name | Last modified | Size | Description | |
---|---|---|---|---|
Parent Directory | - | |||
buildsrc-out.txt | 13-Apr-2023 00:05 | 798 | ||
buildsrc-summary.dcf | 13-Apr-2023 00:05 | 411 | ||
checksrc-out.txt | 13-Apr-2023 00:05 | 4.2K | ||
checksrc-summary.dcf | 13-Apr-2023 00:05 | 412 | ||
install-out.txt | 13-Apr-2023 00:05 | 1.1K | ||
install-summary.dcf | 13-Apr-2023 00:05 | 255 | ||