Index of /checkResults/3.16/bioc-LATEST/trena/raw-results/kjohnson
Name
Last modified
Size
Description
Parent Directory
-
install-summary.dcf
12-Jul-2022 00:06
267
buildsrc-summary.dcf
08-Jul-2022 00:12
338
install-out.txt
12-Jul-2022 00:06
864
buildsrc-out.txt
08-Jul-2022 00:12
1.0K