Name | Last modified | Size | Description | |
---|---|---|---|---|
Parent Directory | - | |||
buildbin-out.txt | 08-Jul-2022 00:12 | 1.3K | ||
buildbin-summary.dcf | 08-Jul-2022 00:12 | 603 | ||
buildsrc-out.txt | 08-Jul-2022 00:12 | 907 | ||
buildsrc-summary.dcf | 08-Jul-2022 00:12 | 464 | ||
install-out.txt | 12-Jul-2022 00:06 | 1.0K | ||
install-summary.dcf | 12-Jul-2022 00:06 | 293 | ||