Index of /checkResults/3.16/bioc-LATEST/transformGamPoi/raw-results/kjohnson
Name
Last modified
Size
Description
Parent Directory
-
buildsrc-out.txt
08-Jul-2022 00:12
947
buildsrc-summary.dcf
08-Jul-2022 00:12
357
install-out.txt
12-Jul-2022 00:06
2.2K
install-summary.dcf
12-Jul-2022 00:06
284