Name | Last modified | Size | Description | |
---|---|---|---|---|
Parent Directory | - | |||
checksrc-out.txt | 13-Apr-2023 00:06 | 6.4K | ||
buildbin-out.txt | 13-Apr-2023 00:06 | 1.2K | ||
install-out.txt | 13-Apr-2023 00:06 | 1.0K | ||
buildsrc-out.txt | 13-Apr-2023 00:06 | 824 | ||
buildbin-summary.dcf | 13-Apr-2023 00:06 | 542 | ||
checksrc-summary.dcf | 13-Apr-2023 00:06 | 451 | ||
buildsrc-summary.dcf | 13-Apr-2023 00:06 | 433 | ||
install-summary.dcf | 13-Apr-2023 00:06 | 273 | ||