Name | Last modified | Size | Description | |
---|---|---|---|---|
Parent Directory | - | |||
buildsrc-out.txt | 13-Apr-2023 00:05 | 882 | ||
buildsrc-summary.dcf | 13-Apr-2023 00:05 | 336 | ||
checksrc-out.txt | 21-Mar-2023 00:05 | 11K | ||
checksrc-summary.dcf | 21-Mar-2023 00:05 | 417 | ||
install-out.txt | 13-Apr-2023 00:05 | 639 | ||
install-summary.dcf | 13-Apr-2023 00:05 | 265 | ||