Name | Last modified | Size | Description | |
---|---|---|---|---|
Parent Directory | - | |||
buildbin-out.txt | 21-Mar-2023 00:06 | 1.3K | ||
buildbin-summary.dcf | 21-Mar-2023 00:06 | 542 | ||
buildsrc-out.txt | 13-Apr-2023 00:06 | 898 | ||
buildsrc-summary.dcf | 13-Apr-2023 00:06 | 346 | ||
checksrc-out.txt | 21-Mar-2023 00:06 | 11K | ||
checksrc-summary.dcf | 21-Mar-2023 00:06 | 452 | ||
install-out.txt | 13-Apr-2023 00:06 | 685 | ||
install-summary.dcf | 13-Apr-2023 00:06 | 275 | ||