![]() | Name | Last modified | Size | Description |
---|---|---|---|---|
![]() | Parent Directory | - | ||
![]() | install-out.txt | 13-Apr-2023 00:05 | 1.4K | |
![]() | install-summary.dcf | 13-Apr-2023 00:05 | 255 | |
![]() | buildsrc-out.txt | 13-Apr-2023 00:05 | 891 | |
![]() | buildsrc-summary.dcf | 13-Apr-2023 00:05 | 412 | |
![]() | checksrc-out.txt | 13-Apr-2023 00:05 | 3.2K | |
![]() | checksrc-summary.dcf | 13-Apr-2023 00:05 | 406 | |