![]() | Name | Last modified | Size | Description |
---|---|---|---|---|
![]() | Parent Directory | - | ||
![]() | install-summary.dcf | 12-Jul-2022 00:06 | 265 | |
![]() | buildsrc-summary.dcf | 08-Jul-2022 00:12 | 420 | |
![]() | buildbin-summary.dcf | 08-Jul-2022 00:12 | 439 | |
![]() | buildsrc-out.txt | 08-Jul-2022 00:12 | 901 | |
![]() | install-out.txt | 12-Jul-2022 00:06 | 1.6K | |
![]() | buildbin-out.txt | 08-Jul-2022 00:12 | 2.0K | |