Name | Last modified | Size | Description | |
---|---|---|---|---|
Parent Directory | - | |||
buildbin-summary.dcf | 13-Apr-2023 00:06 | 506 | ||
buildbin-out.txt | 13-Apr-2023 00:06 | 2.6K | ||
checksrc-summary.dcf | 13-Apr-2023 00:06 | 428 | ||
checksrc-out.txt | 13-Apr-2023 00:06 | 3.2K | ||
buildsrc-summary.dcf | 13-Apr-2023 00:06 | 415 | ||
buildsrc-out.txt | 13-Apr-2023 00:06 | 830 | ||
install-summary.dcf | 13-Apr-2023 00:06 | 261 | ||
install-out.txt | 13-Apr-2023 00:06 | 1.9K | ||