Name | Last modified | Size | Description | |
---|---|---|---|---|
Parent Directory | - | |||
install-out.txt | 13-Apr-2023 00:05 | 931 | ||
install-summary.dcf | 13-Apr-2023 00:05 | 261 | ||
buildsrc-out.txt | 13-Apr-2023 00:05 | 738 | ||
buildsrc-summary.dcf | 13-Apr-2023 00:05 | 419 | ||
checksrc-out.txt | 13-Apr-2023 00:05 | 3.3K | ||
checksrc-summary.dcf | 13-Apr-2023 00:05 | 417 | ||