Name | Last modified | Size | Description | |
---|---|---|---|---|
Parent Directory | - | |||
buildbin-out.txt | 08-Jul-2022 00:12 | 1.1K | ||
buildbin-summary.dcf | 08-Jul-2022 00:12 | 533 | ||
buildsrc-out.txt | 08-Jul-2022 00:12 | 748 | ||
buildsrc-summary.dcf | 08-Jul-2022 00:12 | 429 | ||
install-out.txt | 12-Jul-2022 00:06 | 965 | ||
install-summary.dcf | 12-Jul-2022 00:06 | 270 | ||