Index of /checkResults/3.16/bioc-LATEST/spiky/raw-results/kjohnson
Name
Last modified
Size
Description
Parent Directory
-
buildsrc-out.txt
08-Jul-2022 00:12
881
buildsrc-summary.dcf
08-Jul-2022 00:12
337
install-out.txt
12-Jul-2022 00:06
688
install-summary.dcf
12-Jul-2022 00:06
266