Name | Last modified | Size | Description | |
---|---|---|---|---|
Parent Directory | - | |||
install-summary.dcf | 12-Jul-2022 00:06 | 265 | ||
install-out.txt | 12-Jul-2022 00:06 | 1.0K | ||
buildsrc-summary.dcf | 08-Jul-2022 00:12 | 420 | ||
buildsrc-out.txt | 08-Jul-2022 00:12 | 808 | ||
buildbin-summary.dcf | 08-Jul-2022 00:12 | 518 | ||
buildbin-out.txt | 08-Jul-2022 00:12 | 1.2K | ||