Index of /checkResults/3.16/bioc-LATEST/spatzie/raw-results/kjohnson
Name
Last modified
Size
Description
Parent Directory
-
install-summary.dcf
12-Jul-2022 00:06
270
install-out.txt
12-Jul-2022 00:06
783
buildsrc-summary.dcf
08-Jul-2022 00:12
341
buildsrc-out.txt
08-Jul-2022 00:12
1.0K