Name | Last modified | Size | Description | |
---|---|---|---|---|
Parent Directory | - | |||
install-summary.dcf | 13-Apr-2023 00:05 | 281 | ||
checksrc-summary.dcf | 13-Apr-2023 00:05 | 473 | ||
buildsrc-summary.dcf | 13-Apr-2023 00:05 | 479 | ||
buildbin-summary.dcf | 13-Apr-2023 00:05 | 554 | ||
buildsrc-out.txt | 13-Apr-2023 00:05 | 966 | ||
install-out.txt | 13-Apr-2023 00:05 | 1.0K | ||
buildbin-out.txt | 13-Apr-2023 00:05 | 1.2K | ||
checksrc-out.txt | 13-Apr-2023 00:05 | 3.8K | ||