Name | Last modified | Size | Description | |
---|---|---|---|---|
Parent Directory | - | |||
install-summary.dcf | 13-Apr-2023 00:06 | 266 | ||
install-out.txt | 13-Apr-2023 00:06 | 1.0K | ||
checksrc-summary.dcf | 13-Apr-2023 00:06 | 438 | ||
checksrc-out.txt | 13-Apr-2023 00:06 | 3.4K | ||
buildsrc-summary.dcf | 13-Apr-2023 00:06 | 422 | ||
buildsrc-out.txt | 13-Apr-2023 00:06 | 811 | ||
buildbin-summary.dcf | 13-Apr-2023 00:06 | 521 | ||
buildbin-out.txt | 13-Apr-2023 00:06 | 1.2K | ||